BEGIN:VCALENDAR
VERSION:2.0
PRODID:-//Holy Trinity Church - ECPv6.6.4.2//NONSGML v1.0//EN
CALSCALE:GREGORIAN
METHOD:PUBLISH
X-ORIGINAL-URL:https://holytrinitycapecod.org
X-WR-CALDESC:Events for Holy Trinity Church
REFRESH-INTERVAL;VALUE=DURATION:PT1H
X-Robots-Tag:noindex
X-PUBLISHED-TTL:PT1H
BEGIN:VTIMEZONE
TZID:America/New_York
BEGIN:DAYLIGHT
TZOFFSETFROM:-0500
TZOFFSETTO:-0400
TZNAME:EDT
DTSTART:20240310T070000
END:DAYLIGHT
BEGIN:STANDARD
TZOFFSETFROM:-0400
TZOFFSETTO:-0500
TZNAME:EST
DTSTART:20241103T060000
END:STANDARD
END:VTIMEZONE
BEGIN:VEVENT
DTSTART;VALUE=DATE:20241101
DTEND;VALUE=DATE:20241102
DTSTAMP:20260424T075842
CREATED:20240926T172824Z
LAST-MODIFIED:20241010T141601Z
UID:2313-1730419200-1730505599@holytrinitycapecod.org
SUMMARY:All Saints Day - Masses at 9AM & 6PM
DESCRIPTION:
URL:https://holytrinitycapecod.org/event/all-saints-day-masses-at-9am-and-6pm/
END:VEVENT
BEGIN:VEVENT
DTSTART;VALUE=DATE:20241106
DTEND;VALUE=DATE:20241107
DTSTAMP:20260424T075842
CREATED:20240926T172909Z
LAST-MODIFIED:20241029T133528Z
UID:2314-1730851200-1730937599@holytrinitycapecod.org
SUMMARY:6PM - Mass of Remembrance
DESCRIPTION:
URL:https://holytrinitycapecod.org/event/6pm-commemoration-of-those-who-have-died-this-year/
END:VEVENT
BEGIN:VEVENT
DTSTART;VALUE=DATE:20241111
DTEND;VALUE=DATE:20241112
DTSTAMP:20260424T075842
CREATED:20241101T141724Z
LAST-MODIFIED:20241101T142258Z
UID:2360-1731283200-1731369599@holytrinitycapecod.org
SUMMARY:9:45AM - Veterans' Breakfast in church hall
DESCRIPTION:
URL:https://holytrinitycapecod.org/event/945am-veterans-breakfast-in-church-hall/
END:VEVENT
BEGIN:VEVENT
DTSTART;VALUE=DATE:20241117
DTEND;VALUE=DATE:20241118
DTSTAMP:20260424T075842
CREATED:20241010T141325Z
LAST-MODIFIED:20241010T141325Z
UID:2340-1731801600-1731887999@holytrinitycapecod.org
SUMMARY:11AM - Healing Mass
DESCRIPTION:
URL:https://holytrinitycapecod.org/event/11am-healing-mass/
END:VEVENT
BEGIN:VEVENT
DTSTART;VALUE=DATE:20241126
DTEND;VALUE=DATE:20241127
DTSTAMP:20260424T075842
CREATED:20240926T172956Z
LAST-MODIFIED:20240926T174008Z
UID:2315-1732579200-1732665599@holytrinitycapecod.org
SUMMARY:6PM - Thanksgiving Mass
DESCRIPTION:
URL:https://holytrinitycapecod.org/event/6pm-thanksgiving-mass/
END:VEVENT
END:VCALENDAR